Workbook

Sheet Times
A2: Project time tracking
A3: Time per client and project, with hourly rate and revenue
A5: Date | B5: Employee | C5: Client | D5: Project | E5: Start | F5: End | G5: Break | H5: Hours | I5: Rate | J5: Revenue
H6: =IF(OR(E6="",F6=""),"",((F6-E6)-N(G6))*24) | J6: =IF(H6="","",H6*N(I6))
H7: =IF(OR(E7="",F7=""),"",((F7-E7)-N(G7))*24) | J7: =IF(H7="","",H7*N(I7))
H8: =IF(OR(E8="",F8=""),"",((F8-E8)-N(G8))*24) | J8: =IF(H8="","",H8*N(I8))
H9: =IF(OR(E9="",F9=""),"",((F9-E9)-N(G9))*24) | J9: =IF(H9="","",H9*N(I9))
H10: =IF(OR(E10="",F10=""),"",((F10-E10)-N(G10))*24) | J10: =IF(H10="","",H10*N(I10))
H11: =IF(OR(E11="",F11=""),"",((F11-E11)-N(G11))*24) | J11: =IF(H11="","",H11*N(I11))
H12: =IF(OR(E12="",F12=""),"",((F12-E12)-N(G12))*24) | J12: =IF(H12="","",H12*N(I12))
H13: =IF(OR(E13="",F13=""),"",((F13-E13)-N(G13))*24) | J13: =IF(H13="","",H13*N(I13))
H14: =IF(OR(E14="",F14=""),"",((F14-E14)-N(G14))*24) | J14: =IF(H14="","",H14*N(I14))
H15: =IF(OR(E15="",F15=""),"",((F15-E15)-N(G15))*24) | J15: =IF(H15="","",H15*N(I15))
H16: =IF(OR(E16="",F16=""),"",((F16-E16)-N(G16))*24) | J16: =IF(H16="","",H16*N(I16))
H17: =IF(OR(E17="",F17=""),"",((F17-E17)-N(G17))*24) | J17: =IF(H17="","",H17*N(I17))
... H125: =IF(OR(E125="",F125=""),"",((F125-E125)-N(G125))*24) | J125: =IF(H125="","",H125*N(I125))
G127: Total | H127: =SUM(H6:H125) | J127: =SUM(J6:J125)
A129: Template by MetronHR: www.metronhr.de | Free to use within your business.

Sheet Report
A2: Report per client
A3: Enter client names; hours and revenue calculate themselves
A5: Client | B5: Hours | C5: Revenue
B6: =IF(A6="","",SUMIF(Times!$C$6:$C$125,A6,Times!$H$6:$H$125)) | C6: =IF(A6="","",SUMIF(Times!$C$6:$C$125,A6,Times!$J$6:$J$125))
B7: =IF(A7="","",SUMIF(Times!$C$6:$C$125,A7,Times!$H$6:$H$125)) | C7: =IF(A7="","",SUMIF(Times!$C$6:$C$125,A7,Times!$J$6:$J$125))
B8: =IF(A8="","",SUMIF(Times!$C$6:$C$125,A8,Times!$H$6:$H$125)) | C8: =IF(A8="","",SUMIF(Times!$C$6:$C$125,A8,Times!$J$6:$J$125))
B9: =IF(A9="","",SUMIF(Times!$C$6:$C$125,A9,Times!$H$6:$H$125)) | C9: =IF(A9="","",SUMIF(Times!$C$6:$C$125,A9,Times!$J$6:$J$125))
B10: =IF(A10="","",SUMIF(Times!$C$6:$C$125,A10,Times!$H$6:$H$125)) | C10: =IF(A10="","",SUMIF(Times!$C$6:$C$125,A10,Times!$J$6:$J$125))
B11: =IF(A11="","",SUMIF(Times!$C$6:$C$125,A11,Times!$H$6:$H$125)) | C11: =IF(A11="","",SUMIF(Times!$C$6:$C$125,A11,Times!$J$6:$J$125))
B12: =IF(A12="","",SUMIF(Times!$C$6:$C$125,A12,Times!$H$6:$H$125)) | C12: =IF(A12="","",SUMIF(Times!$C$6:$C$125,A12,Times!$J$6:$J$125))
B13: =IF(A13="","",SUMIF(Times!$C$6:$C$125,A13,Times!$H$6:$H$125)) | C13: =IF(A13="","",SUMIF(Times!$C$6:$C$125,A13,Times!$J$6:$J$125))
B14: =IF(A14="","",SUMIF(Times!$C$6:$C$125,A14,Times!$H$6:$H$125)) | C14: =IF(A14="","",SUMIF(Times!$C$6:$C$125,A14,Times!$J$6:$J$125))
B15: =IF(A15="","",SUMIF(Times!$C$6:$C$125,A15,Times!$H$6:$H$125)) | C15: =IF(A15="","",SUMIF(Times!$C$6:$C$125,A15,Times!$J$6:$J$125))
B16: =IF(A16="","",SUMIF(Times!$C$6:$C$125,A16,Times!$H$6:$H$125)) | C16: =IF(A16="","",SUMIF(Times!$C$6:$C$125,A16,Times!$J$6:$J$125))
B17: =IF(A17="","",SUMIF(Times!$C$6:$C$125,A17,Times!$H$6:$H$125)) | C17: =IF(A17="","",SUMIF(Times!$C$6:$C$125,A17,Times!$J$6:$J$125))
... B25: =IF(A25="","",SUMIF(Times!$C$6:$C$125,A25,Times!$H$6:$H$125)) | C25: =IF(A25="","",SUMIF(Times!$C$6:$C$125,A25,Times!$J$6:$J$125))
A28: Project time is not the same as working time. The statutory record under the Working Hours Act (ArbZG) needs the start, end and breaks of the working day, not how it was split across projects.
A30: Template by MetronHR: www.metronhr.de | Free to use within your business.
